BEGIN:VCALENDAR
VERSION:2.0
PRODID:-//CCEIL - C-Community Empowerment Initiative Lethbridge - ECPv6.11.2.1//NONSGML v1.0//EN
CALSCALE:GREGORIAN
METHOD:PUBLISH
X-WR-CALNAME:CCEIL - C-Community Empowerment Initiative Lethbridge
X-ORIGINAL-URL:https://cceil.ca
X-WR-CALDESC:Events for CCEIL - C-Community Empowerment Initiative Lethbridge
REFRESH-INTERVAL;VALUE=DURATION:PT1H
X-Robots-Tag:noindex
X-PUBLISHED-TTL:PT1H
BEGIN:VTIMEZONE
TZID:UTC
BEGIN:STANDARD
TZOFFSETFROM:+0000
TZOFFSETTO:+0000
TZNAME:UTC
DTSTART:20240101T000000
END:STANDARD
END:VTIMEZONE
BEGIN:VTIMEZONE
TZID:America/Edmonton
BEGIN:DAYLIGHT
TZOFFSETFROM:-0700
TZOFFSETTO:-0600
TZNAME:MDT
DTSTART:20250309T090000
END:DAYLIGHT
BEGIN:STANDARD
TZOFFSETFROM:-0600
TZOFFSETTO:-0700
TZNAME:MST
DTSTART:20251102T080000
END:STANDARD
END:VTIMEZONE
BEGIN:VEVENT
DTSTART;VALUE=DATE:20260207
DTEND;VALUE=DATE:20260208
DTSTAMP:20260422T152517
CREATED:20260201T235306Z
LAST-MODIFIED:20260201T235306Z
UID:3163-1770422400-1770508799@cceil.ca
SUMMARY:Black History Month Celebration
DESCRIPTION:At CCEIL\, we recognize that Black history is not confined to the past. It is living\, evolving\, and deeply connected to the experiences of Black newcomers\, immigrants\, refugees\, and long-standing Black communities today. We acknowledge the importance of creating inclusive spaces where Black voices are heard\, valued\, and respected\, and where equity\, dignity\, and opportunity are actively promoted. \nThis month invites us all to learn\, listen\, and engage in meaningful conversations about anti-Black racism\, belonging\, and social justice. It also challenges us to move beyond celebration toward action—by supporting equity-focused initiatives\, amplifying Black voices\, and working collectively to build stronger\, more inclusive communities.
URL:https://cceil.ca/event/black-history-month-celebration/
END:VEVENT
BEGIN:VEVENT
DTSTART;TZID=America/Edmonton:20251220T190000
DTEND;TZID=America/Edmonton:20251220T230000
DTSTAMP:20260422T152517
CREATED:20251104T025256Z
LAST-MODIFIED:20260201T234520Z
UID:3094-1766257200-1766271600@cceil.ca
SUMMARY:CHRISTMAS GALA
DESCRIPTION:Celebrate the season in style at our Annual Christmas Gala\, an evening of fine dining\, entertainment\, and community togetherness in the spirit of giving.\n 
URL:https://cceil.ca/event/christmas-gala/
LOCATION:Hungarian Canadian Club Lethbridge\, 410 2Avenue South\, Lethbridge\, Alberta\, Canada
ATTACH;FMTTYPE=image/jpeg:https://cceil.ca/wp-content/uploads/2025/11/WhatsApp-Image-2025-11-03-at-7.21.38-PM.jpeg
END:VEVENT
BEGIN:VEVENT
DTSTART;TZID=America/Edmonton:20251004T140000
DTEND;TZID=America/Edmonton:20251004T170000
DTSTAMP:20260422T152517
CREATED:20251104T021311Z
LAST-MODIFIED:20251104T034055Z
UID:3081-1759586400-1759597200@cceil.ca
SUMMARY:Scam Awareness and Digital Literacy
DESCRIPTION:“Scam Awareness & Protection: Common Scams Targeting Immigrant Seniors”  \nNEW HORIZON FOR SENIORS PROGRAM (NHSP) \nby Evans Oppong\,  Cathy Opondo \nSecurity Operation Analyst: \nKey Take Away \nUnderstanding Scams\nScams are deceptive schemes designed to steal money\, personal information\, or both. Common scams targeting immigrant seniors include grandparent/family emergency scams\, sweepstakes/lottery scams\, financial services scams\, tech support scams\, phishing\, government impersonation scams\, and immigration settlement scams. \nWhy Immigrant Seniors Are Targeted\nImmigrant seniors face unique vulnerabilities such as unfamiliarity with government processes\, language barriers\, cultural respect for authority\, and social isolation. These factors make it harder for them to detect and question scams. \nCommon Scam Types and Red Flags \n\nGovernment impersonation scams create panic with threats of arrest or deportation\, demanding immediate payment through untraceable methods like gift cards or cryptocurrency.\nImmigration scams involve fake consultants\, job offers\, or rental housing fraud\, with pressure for upfront fees and lack of official credentials.\nTech support scams warn of fake computer viruses\, demanding payment to fix nonexistent problems.\nFinancial identity theft scams promise guaranteed returns or benefits but aim to steal personal and banking information.\n\nProtective Measures \n\nNever trust urgent demands for immediate payment or information. Hang up and verify by contacting agencies directly through official channels.\nGuard personal information such as Social Security or Social Insurance Numbers\, bank account details\, and passwords.\nAvoid clicking on suspicious email or text links and be wary of online relationships asking for money.\nSet clear financial boundaries with family and friends to prevent exploitation.\nSeek help from trusted community organizations\, local police\, or official fraud departments.\n\nCommunity Impact and Support\nScams cause financial devastation\, emotional trauma\, and community mistrust. Raising awareness and sharing information helps build stronger\, safer communities. Trusted organizations like anti-fraud centers\, police services\, and immigrant support agencies are valuable resources for protection and reporting. \nFinal Thought\nKnowledge and vigilance are the best defenses against scams. Stopping communication immediately\, verifying through official sources\, and seeking community support empower individuals to protect themselves and others.
URL:https://cceil.ca/event/scam-awareness-and-digital-literacy/
LOCATION:Galt Museum and Achieves
ATTACH;FMTTYPE=image/jpeg:https://cceil.ca/wp-content/uploads/2025/11/WhatsApp-Image-2025-10-04-at-4.29.35-PM-scaled.jpeg
END:VEVENT
BEGIN:VEVENT
DTSTART;TZID=America/Edmonton:20251004T140000
DTEND;TZID=America/Edmonton:20251004T170000
DTSTAMP:20260422T152517
CREATED:20250920T011610Z
LAST-MODIFIED:20250920T011610Z
UID:3043-1759586400-1759597200@cceil.ca
SUMMARY:New Horizon for Seniors Program (NHSP)
DESCRIPTION:Scam Awareness and Digital Literacy Training\nGuess Speakers \nCathy Opondo \nEvans Oppong
URL:https://cceil.ca/event/new-horizon-for-seniors-program-nhsp/
LOCATION:Galt Museum and Achieves
ATTACH;FMTTYPE=image/png:https://cceil.ca/wp-content/uploads/2025/09/blue-and-yellow-modern-business-webinar-flyer.png
ORGANIZER;CN="CCEIL":MAILTO:cceillethbridge@gmail.com
END:VEVENT
BEGIN:VEVENT
DTSTART;VALUE=DATE:20250525
DTEND;VALUE=DATE:20250526
DTSTAMP:20260422T152517
CREATED:20260201T232559Z
LAST-MODIFIED:20260201T232855Z
UID:3135-1748131200-1748217599@cceil.ca
SUMMARY:Elder Abuse
DESCRIPTION:Preventing and Addressing Elder Abuse\nElder abuse threatens the safety\, dignity\, and well-being of older adults. As a community-based non-profit\, we are committed to raising awareness\, educating families and caregivers\, and ensuring seniors know they are not alone. \n\n\n\n	\n		\n\n			\n		\n\n		\n		\n\n			\n		\n\n		\n		\n\n			\n		\n\n		\n		\n\n			\n		\n\n		\n\n\n\nWe provide education on recognizing the signs of elder abuse\, including physical\, emotional\, financial abuse\, and neglect. We also offer culturally responsive training for seniors\, caregivers\, and family members on how to prevent abuse and report concerns safely. \nIf you or someone you know needs help\, support is available. We connect individuals to trusted community \nand healthcare resources and provide guidance on next steps. \n\nGet Help or Learn More:\nEmergency: 911\nSeniors Abuse Helpline (Canada): 1-866-299-1011\nGovernment of Canada – Elder Abuse Resources\nEmail:cceillethbridge@gmail.com\n\nTogether\, we can protect older adults and build safer\, more respectful communities.
URL:https://cceil.ca/event/elder-abuse/
LOCATION:Rotary Picnic Centre lethbridge\, Giffen Rd N\, Lethbridge\, Alberta\, T1H7A1\, Canada
ATTACH;FMTTYPE=image/jpeg:https://cceil.ca/wp-content/uploads/2026/02/WhatsApp-Image-2026-02-01-at-15.25.51.jpeg
END:VEVENT
BEGIN:VEVENT
DTSTART;VALUE=DATE:20241222
DTEND;VALUE=DATE:20241223
DTSTAMP:20260422T152517
CREATED:20250501T085054Z
LAST-MODIFIED:20250501T085054Z
UID:2384-1734825600-1734911999@cceil.ca
SUMMARY:Children Christmas Party - CCEIL
DESCRIPTION:🎄 Successful First Event: CCEIL hosted its first-ever Children’s Christmas Party on December 20\, 2024\, with over 100 attendees.\n👧🎤 Children Participation: Kids took part in planning\, decorating\, crafting\, piano recitals\, and dance performances—showcasing their talents.\n🤝 Community Building: The event created a welcoming space for networking and connection\, especially for new families in Lethbridge.\n🎁 Inclusive Celebration: Every child received a gift from Santa.\n✅ Team Effort & Success: Members handled planning\, setup\, food\, transportation\, and cleanup—staying within budget and on schedule.
URL:https://cceil.ca/event/children-christmas-party-cceil/
ATTACH;FMTTYPE=image/jpeg:https://cceil.ca/wp-content/uploads/2025/05/CCEIL-image-14.jpg
END:VEVENT
BEGIN:VEVENT
DTSTART;TZID=UTC:20240727T140000
DTEND;TZID=UTC:20240727T200000
DTSTAMP:20260422T152517
CREATED:20250501T084940Z
LAST-MODIFIED:20250501T084940Z
UID:2380-1722088800-1722110400@cceil.ca
SUMMARY:LECDA Calgary
DESCRIPTION:● BBQ at Henderson Lake Lethbridge\n● Cultural dance display\n● Sports and games\n● Evening Gala at the Casa Lethbridge
URL:https://cceil.ca/event/lecda-calgary/
ATTACH;FMTTYPE=image/jpeg:https://cceil.ca/wp-content/uploads/2025/05/CCEIL-image-17.jpg
END:VEVENT
BEGIN:VEVENT
DTSTART;TZID=UTC:20240406T140000
DTEND;TZID=UTC:20240406T200000
DTSTAMP:20260422T152517
CREATED:20250501T084847Z
LAST-MODIFIED:20250501T084847Z
UID:2374-1712412000-1712433600@cceil.ca
SUMMARY:Cameroon Awareness Day - Sponsored by the City of Lethbridge
DESCRIPTION:● 👧 Kids’ Participation: Children delivered speeches in both English and French\, showcasing Cameroon’s rich cultural heritage and diversity with confidence and pride.\n● 🧥 Fashion Parade & Cultural Dance: A vibrant display of traditional Cameroonian regalia and energetic cultural dance performances celebrated the country’s unique identity and traditions.\n● 🍽️ Community Gathering: Guests enjoyed a variety of authentic Cameroonian cuisine\, creating a warm atmosphere for social interaction\, cultural exchange\, and networking.\n● 🗣️ Engaged Participation: The event received strong support and involvement from other African communities\, including the Southern Alberta Afro-Canadian Association\, fostering cross-cultural unity and collaboration.\n● 🤝 Strong Community Support: With generous backing from local sponsors such as McCain Foods\, Flex Scrubs\, and Genesis Exotic Market\, and the presence of public figures\, the event successfully strengthened community ties and raised cultural awareness. \nThank you to the City of Lethbridge
URL:https://cceil.ca/event/cameroon-awareness-day-sponsored-by-the-city-of-lethbridge/
ATTACH;FMTTYPE=image/jpeg:https://cceil.ca/wp-content/uploads/2025/05/CCEIL-image-20.jpg
END:VEVENT
END:VCALENDAR